BEGIN:VCALENDAR
VERSION:2.0
PRODID:-//arcofchestercounty.org//NONSGML kigkonsult.se iCalcreator 2.30.10
 //
CALSCALE:GREGORIAN
METHOD:PUBLISH
UID:77f3b6c5-0ed3-42f8-b145-da51b346bb04
X-WR-CALDESC:
X-WR-RELCALID:95e5424706bba981bbb351ae2772b144
X-WR-TIMEZONE:America/New_York
BEGIN:VTIMEZONE
TZID:America/New_York
BEGIN:STANDARD
TZNAME:EST
DTSTART:20241103T020000
TZOFFSETFROM:-0400
TZOFFSETTO:-0500
RDATE:20251102T020000
RDATE:20261101T020000
END:STANDARD
BEGIN:DAYLIGHT
TZNAME:EDT
DTSTART:20250309T020000
TZOFFSETFROM:-0500
TZOFFSETTO:-0400
RDATE:20260308T020000
RDATE:20270314T020000
END:DAYLIGHT
END:VTIMEZONE
BEGIN:VEVENT
UID:108ae2e3-7260-43f1-8554-093faa77a666
DTSTAMP:20260421T084507Z
DESCRIPTION:
DTSTART;TZID=America/New_York:20250914T130000
DTEND;TZID=America/New_York:20250914T170000
LOCATION:The Arc of Chester County \, 900 Lawrence Drive\, West Chester \, 
 PA 19380 US
SUMMARY:Phillies Watch Party
END:VEVENT
END:VCALENDAR
