BEGIN:VCALENDAR
VERSION:2.0
PRODID:-//arcofchestercounty.org//NONSGML kigkonsult.se iCalcreator 2.30.10
 //
CALSCALE:GREGORIAN
METHOD:PUBLISH
UID:eaa12900-5fd7-448b-8e25-029682a58f7d
X-WR-CALDESC:
X-WR-RELCALID:6a68f0b57f96c33b1dc14d5482229731
X-WR-TIMEZONE:America/New_York
BEGIN:VTIMEZONE
TZID:America/New_York
BEGIN:STANDARD
TZNAME:EST
DTSTART:20241103T020000
TZOFFSETFROM:-0400
TZOFFSETTO:-0500
RDATE:20251102T020000
RDATE:20261101T020000
END:STANDARD
BEGIN:DAYLIGHT
TZNAME:EDT
DTSTART:20250309T020000
TZOFFSETFROM:-0500
TZOFFSETTO:-0400
RDATE:20260308T020000
END:DAYLIGHT
END:VTIMEZONE
BEGIN:VEVENT
UID:afa3f75c-bec2-4e25-a10e-124c0d0bc377
DTSTAMP:20260421T102627Z
DESCRIPTION:
DTSTART;TZID=America/New_York:20250820T180000
DTEND;TZID=America/New_York:20250820T200000
LOCATION:The Arc of Chester County \, 900 Lawrence Drive\, West Chester \, 
 PA 19380 US
SUMMARY:Board Meeting
END:VEVENT
END:VCALENDAR
