BEGIN:VCALENDAR
VERSION:2.0
PRODID:-//arcofchestercounty.org//NONSGML kigkonsult.se iCalcreator 2.30.10
 //
CALSCALE:GREGORIAN
METHOD:PUBLISH
UID:275c0550-5898-4438-a20f-3ad4663b8e47
X-WR-CALDESC:
X-WR-RELCALID:f81c35710d890c0cc5a565ae65211c68
X-WR-TIMEZONE:America/New_York
BEGIN:VTIMEZONE
TZID:America/New_York
BEGIN:STANDARD
TZNAME:EST
DTSTART:20241103T020000
TZOFFSETFROM:-0400
TZOFFSETTO:-0500
RDATE:20251102T020000
RDATE:20261101T020000
END:STANDARD
BEGIN:DAYLIGHT
TZNAME:EDT
DTSTART:20250309T020000
TZOFFSETFROM:-0500
TZOFFSETTO:-0400
RDATE:20260308T020000
END:DAYLIGHT
END:VTIMEZONE
BEGIN:VEVENT
UID:31a11e4f-a485-4c03-b4be-3a5a0e0c6777
DTSTAMP:20260421T095946Z
DESCRIPTION:
DTSTART;TZID=America/New_York:20250817T130000
DTEND;TZID=America/New_York:20250817T153000
LOCATION:The Arc of Chester County \, 900 Lawrence Drive\, West Chester \, 
 PA 19380 US
SUMMARY:Tye Dye
END:VEVENT
END:VCALENDAR
