BEGIN:VCALENDAR
VERSION:2.0
PRODID:-//arcofchestercounty.org//NONSGML kigkonsult.se iCalcreator 2.30.10
 //
CALSCALE:GREGORIAN
METHOD:PUBLISH
UID:cb157482-79b1-4a87-b07a-831ae0b4e6d9
X-WR-CALDESC:
X-WR-RELCALID:d7c51129ae7ace8e1fdf11327b53c898
X-WR-TIMEZONE:America/New_York
BEGIN:VTIMEZONE
TZID:America/New_York
BEGIN:STANDARD
TZNAME:EST
DTSTART:20241103T020000
TZOFFSETFROM:-0400
TZOFFSETTO:-0500
RDATE:20251102T020000
RDATE:20261101T020000
END:STANDARD
BEGIN:DAYLIGHT
TZNAME:EDT
DTSTART:20250309T020000
TZOFFSETFROM:-0500
TZOFFSETTO:-0400
RDATE:20260308T020000
END:DAYLIGHT
END:VTIMEZONE
BEGIN:VEVENT
UID:ebcc4218-4479-40d3-9077-525bac6271d2
DTSTAMP:20260421T113447Z
DESCRIPTION:
DTSTART;TZID=America/New_York:20250713T183000
DTEND;TZID=America/New_York:20250713T203000
LOCATION:The Arc of Chester County \, 900 Lawrence Drive\, West Chester \, 
 PA 19380 US
SUMMARY:Summer Concert at East Goshen Park - The Malarkey Brothers
END:VEVENT
END:VCALENDAR
