BEGIN:VCALENDAR
VERSION:2.0
PRODID:-//arcofchestercounty.org//NONSGML kigkonsult.se iCalcreator 2.30.10
 //
CALSCALE:GREGORIAN
METHOD:PUBLISH
UID:57f6d496-921a-438c-b5c6-7067a5e7bec8
X-WR-CALDESC:
X-WR-RELCALID:60bd66e47ca90a333fdaa19a78d0ca2c
X-WR-TIMEZONE:America/New_York
BEGIN:VTIMEZONE
TZID:America/New_York
BEGIN:STANDARD
TZNAME:EST
DTSTART:20241103T020000
TZOFFSETFROM:-0400
TZOFFSETTO:-0500
RDATE:20251102T020000
RDATE:20261101T020000
END:STANDARD
BEGIN:DAYLIGHT
TZNAME:EDT
DTSTART:20250309T020000
TZOFFSETFROM:-0500
TZOFFSETTO:-0400
RDATE:20260308T020000
END:DAYLIGHT
END:VTIMEZONE
BEGIN:VEVENT
UID:2a33c69d-2616-4684-bf74-cdc23cdcc020
DTSTAMP:20260421T132119Z
DESCRIPTION:
DTSTART;TZID=America/New_York:20250617T140000
DTEND;TZID=America/New_York:20250617T150000
LOCATION:The Arc of Chester County \, 900 Lawrence Drive\, West Chester \, 
 PA 19380 US
SUMMARY:Movie Night and Pizza
END:VEVENT
END:VCALENDAR
