BEGIN:VCALENDAR
VERSION:2.0
PRODID:-//arcofchestercounty.org//NONSGML kigkonsult.se iCalcreator 2.30.10
 //
CALSCALE:GREGORIAN
METHOD:PUBLISH
UID:f8672c7d-0837-4e0a-8665-eedcb3627bf7
X-WR-CALDESC:Transportation Options\nWednesday\, April 16\, 2025\n11:30 AM 
 -1:00 PM\nVirtually
X-WR-RELCALID:fd44618384c7b82f9e9c3e4cccf44cbf
X-WR-TIMEZONE:America/New_York
BEGIN:VTIMEZONE
TZID:America/New_York
BEGIN:STANDARD
TZNAME:EST
DTSTART:20241103T020000
TZOFFSETFROM:-0400
TZOFFSETTO:-0500
RDATE:20251102T020000
END:STANDARD
BEGIN:DAYLIGHT
TZNAME:EDT
DTSTART:20250309T020000
TZOFFSETFROM:-0500
TZOFFSETTO:-0400
RDATE:20260308T020000
END:DAYLIGHT
END:VTIMEZONE
BEGIN:VEVENT
UID:0d43021d-b1cb-4f1e-8c55-27494bca49f3
DTSTAMP:20260421T164353Z
DESCRIPTION:Transportation Options\nWednesday\, April 16\, 2025\n11:30 AM -
 1:00 PM\nVirtually
DTSTART;TZID=America/New_York:20250416T113000
DTEND;TZID=America/New_York:20250416T130000
LOCATION:https://arcofchestercounty.org/events-activities/chat-n-chew-train
 ing-series.html
SUMMARY:Transportation Options Chat & Chew Virtual Series
END:VEVENT
END:VCALENDAR
