BEGIN:VCALENDAR
VERSION:2.0
PRODID:-//arcofchestercounty.org//NONSGML kigkonsult.se iCalcreator 2.30.10
 //
CALSCALE:GREGORIAN
METHOD:PUBLISH
UID:929adf91-6094-4b88-8a13-4ae5a32b98aa
X-WR-CALDESC:Social Security Disability Benefits – Part II\nWednesday\, Apr
 il 9\, 2025\n11:30 AM -1:00 PM\nVirtually
X-WR-RELCALID:2f443d01a4079fd108d201de77231f44
X-WR-TIMEZONE:America/New_York
BEGIN:VTIMEZONE
TZID:America/New_York
BEGIN:STANDARD
TZNAME:EST
DTSTART:20241103T020000
TZOFFSETFROM:-0400
TZOFFSETTO:-0500
RDATE:20251102T020000
END:STANDARD
BEGIN:DAYLIGHT
TZNAME:EDT
DTSTART:20250309T020000
TZOFFSETFROM:-0500
TZOFFSETTO:-0400
RDATE:20260308T020000
END:DAYLIGHT
END:VTIMEZONE
BEGIN:VEVENT
UID:1043b0b8-a049-4003-b2ec-7e3ae6f04e83
DTSTAMP:20260421T163658Z
DESCRIPTION:Social Security Disability Benefits – Part II\nWednesday\, Apri
 l 9\, 2025\n11:30 AM -1:00 PM\nVirtually
DTSTART;TZID=America/New_York:20250409T113000
DTEND;TZID=America/New_York:20250409T130000
LOCATION:The Arc of Chester County \, 900 Lawrence Drive\, West Chester \, 
 PA 19380 US
SUMMARY:Social Security and Disabilities Benefits Part II Chat & Chew Virtu
 al Series
END:VEVENT
END:VCALENDAR
