BEGIN:VCALENDAR
VERSION:2.0
PRODID:-//arcofchestercounty.org//NONSGML kigkonsult.se iCalcreator 2.30.10
 //
CALSCALE:GREGORIAN
METHOD:PUBLISH
UID:ad45c119-8c73-44bb-8216-d72815ad4293
X-WR-CALDESC:Guardianship and Power of Attorney\nWednesday\, April 2\, 2025
 \n11:30 AM -1:00 PM\nVirtually
X-WR-RELCALID:3b02d4a1d487261916b33a585a36cc2e
X-WR-TIMEZONE:America/New_York
BEGIN:VTIMEZONE
TZID:America/New_York
BEGIN:STANDARD
TZNAME:EST
DTSTART:20241103T020000
TZOFFSETFROM:-0400
TZOFFSETTO:-0500
RDATE:20251102T020000
END:STANDARD
BEGIN:DAYLIGHT
TZNAME:EDT
DTSTART:20250309T020000
TZOFFSETFROM:-0500
TZOFFSETTO:-0400
RDATE:20260308T020000
END:DAYLIGHT
END:VTIMEZONE
BEGIN:VEVENT
UID:e57279e0-92d3-4ee5-8411-37f9569ca1fc
DTSTAMP:20260421T164146Z
DESCRIPTION:Guardianship and Power of Attorney\nWednesday\, April 2\, 2025
 \n11:30 AM -1:00 PM\nVirtually
DTSTART;TZID=America/New_York:20250402T113000
DTEND;TZID=America/New_York:20250402T130000
LOCATION:The Arc of Chester County \, West Chester \, PA 19380 US
SUMMARY:Guardianship and Power of Attorney Chat & Chew Virtual Series
END:VEVENT
END:VCALENDAR
