BEGIN:VCALENDAR
VERSION:2.0
PRODID:-//arcofchestercounty.org//NONSGML kigkonsult.se iCalcreator 2.30.10
 //
CALSCALE:GREGORIAN
METHOD:PUBLISH
UID:d974b1ea-9231-4013-9de4-0dfc3608cdfb
X-WR-CALDESC:The cost of this event is $110 per person.
X-WR-RELCALID:68b5cd91074552ad84c513bd2d8bfeb6
X-WR-TIMEZONE:America/New_York
BEGIN:VTIMEZONE
TZID:America/New_York
BEGIN:STANDARD
TZNAME:EST
DTSTART:20241103T020000
TZOFFSETFROM:-0400
TZOFFSETTO:-0500
RDATE:20251102T020000
END:STANDARD
BEGIN:DAYLIGHT
TZNAME:EDT
DTSTART:20250309T020000
TZOFFSETFROM:-0500
TZOFFSETTO:-0400
RDATE:20260308T020000
END:DAYLIGHT
END:VTIMEZONE
BEGIN:VEVENT
UID:f1494664-5a5d-40a5-8bb0-1396e9442e4b
DTSTAMP:20260421T180545Z
DESCRIPTION:The cost of this event is $110 per person.
DTSTART;TZID=America/New_York:20250316T130000
DTEND;TZID=America/New_York:20250316T170000
LOCATION:The Arc of Chester County \, 900 Lawrence Drive\, West Chester \, 
 PA 19380 US
SUMMARY:The Musical Comedy Murders of 1940 at Barley Players
END:VEVENT
END:VCALENDAR
