BEGIN:VCALENDAR
VERSION:2.0
PRODID:-//arcofchestercounty.org//NONSGML kigkonsult.se iCalcreator 2.30.10
 //
CALSCALE:GREGORIAN
METHOD:PUBLISH
UID:9b4507d7-686c-438b-91b7-fb63b4d67439
X-WR-CALDESC:Support\nThe Arc of Chester County\nMar 14\, 2025\nAll day\nSh
 are on social media\n\n\n3 W. Gay St.\nWest Chester\, PA 19380\nDirections
 \n\nWays to support this fundraiser\nThe Arc of Chester County will receiv
 e 20% of fundraiser sales* during this fundraiser. Participate on Mar 14\,
  2025 during the scheduled fundraiser time by showing this flyer or explai
 ning to your server that you are supporting the fundraiser.\n\n*Alcoholic 
 beverages\, gratuity and tax excluded.
X-WR-RELCALID:93f5ef339107535af8c106c53f3ba559
X-WR-TIMEZONE:America/New_York
BEGIN:VTIMEZONE
TZID:America/New_York
BEGIN:STANDARD
TZNAME:EST
DTSTART:20241103T020000
TZOFFSETFROM:-0400
TZOFFSETTO:-0500
RDATE:20251102T020000
END:STANDARD
BEGIN:DAYLIGHT
TZNAME:EDT
DTSTART:20250309T020000
TZOFFSETFROM:-0500
TZOFFSETTO:-0400
RDATE:20260308T020000
END:DAYLIGHT
END:VTIMEZONE
BEGIN:VEVENT
UID:4718450d-a0fd-403c-83a0-15b0879ff954
DTSTAMP:20260421T181846Z
DESCRIPTION:Support\nThe Arc of Chester County\nMar 14\, 2025\nAll day\nSha
 re on social media\n\n\n3 W. Gay St.\nWest Chester\, PA 19380\nDirections
 \n\nWays to support this fundraiser\nThe Arc of Chester County will receiv
 e 20% of fundraiser sales* during this fundraiser. Participate on Mar 14\,
  2025 during the scheduled fundraiser time by showing this flyer or explai
 ning to your server that you are supporting the fundraiser.\n\n*Alcoholic 
 beverages\, gratuity and tax excluded.
DTSTART;TZID=America/New_York:20250314T110000
DTEND;TZID=America/New_York:20250314T220000
LOCATION:3 W. Gay Street \, West Chester \, PA 19380 US
SUMMARY:Dine and Donate Iron Hill Brewery West Chester
END:VEVENT
END:VCALENDAR
