BEGIN:VCALENDAR
VERSION:2.0
PRODID:-//arcofchestercounty.org//NONSGML kigkonsult.se iCalcreator 2.30.10
 //
CALSCALE:GREGORIAN
METHOD:PUBLISH
UID:e81a9989-5fdc-4a8c-a791-bcf959c9cce2
X-WR-CALDESC:The cost of this event is $50.00 per person.
X-WR-RELCALID:262d7850b44ed76a65fc1970c9082ba3
X-WR-TIMEZONE:America/New_York
BEGIN:VTIMEZONE
TZID:America/New_York
BEGIN:STANDARD
TZNAME:EST
DTSTART:20241103T020000
TZOFFSETFROM:-0400
TZOFFSETTO:-0500
RDATE:20251102T020000
END:STANDARD
BEGIN:DAYLIGHT
TZNAME:EDT
DTSTART:20240310T020000
TZOFFSETFROM:-0500
TZOFFSETTO:-0400
RDATE:20250309T020000
RDATE:20260308T020000
END:DAYLIGHT
END:VTIMEZONE
BEGIN:VEVENT
UID:788e0967-8aa1-4f9b-b3dc-979a883f57da
DTSTAMP:20260421T182517Z
DESCRIPTION:The cost of this event is $50.00 per person.
DTSTART;TZID=America/New_York:20250307T180000
DTEND;TZID=America/New_York:20250307T203000
LOCATION:The Arc of Chester County \, 900 Lawrence Drive\, West Chester \, 
 PA 19380 US
SUMMARY:Dinner and Disney
END:VEVENT
END:VCALENDAR
