BEGIN:VCALENDAR
VERSION:2.0
PRODID:-//arcofchestercounty.org//NONSGML kigkonsult.se iCalcreator 2.30.10
 //
CALSCALE:GREGORIAN
METHOD:PUBLISH
UID:7b0462b0-1146-41f4-a4fd-e32cb0cbdd25
X-WR-CALDESC:The cost of this event is $55.00 per person.
X-WR-RELCALID:aaca06e42f8b0e1fe6edabd4cd55081e
X-WR-TIMEZONE:America/New_York
BEGIN:VTIMEZONE
TZID:America/New_York
BEGIN:STANDARD
TZNAME:EST
DTSTART:20241103T020000
TZOFFSETFROM:-0400
TZOFFSETTO:-0500
RDATE:20251102T020000
END:STANDARD
BEGIN:DAYLIGHT
TZNAME:EDT
DTSTART:20240310T020000
TZOFFSETFROM:-0500
TZOFFSETTO:-0400
RDATE:20250309T020000
RDATE:20260308T020000
END:DAYLIGHT
END:VTIMEZONE
BEGIN:VEVENT
UID:3a2c77a4-99ba-497a-a726-280019cc7bef
DTSTAMP:20260421T200123Z
DESCRIPTION:The cost of this event is $55.00 per person.
DTSTART;TZID=America/New_York:20250227T190000
DTEND;TZID=America/New_York:20250227T210000
LOCATION:The Arc of Chester County \, 900 Lawrence Drive\, West Chester \, 
 PA 19380 US
SUMMARY:Craft Night
END:VEVENT
END:VCALENDAR
