BEGIN:VCALENDAR
VERSION:2.0
PRODID:-//arcofchestercounty.org//NONSGML kigkonsult.se iCalcreator 2.30.10
 //
CALSCALE:GREGORIAN
METHOD:PUBLISH
UID:b1eec3ed-eec2-4bcb-aef9-05e5dbd7e2ca
X-WR-CALDESC:The cost of this event is $35.00 per person.
X-WR-RELCALID:79c536b57601ae6e8d9baa880f45d3ac
X-WR-TIMEZONE:America/New_York
BEGIN:VTIMEZONE
TZID:America/New_York
BEGIN:STANDARD
TZNAME:EST
DTSTART:20241103T020000
TZOFFSETFROM:-0400
TZOFFSETTO:-0500
RDATE:20251102T020000
END:STANDARD
BEGIN:DAYLIGHT
TZNAME:EDT
DTSTART:20240310T020000
TZOFFSETFROM:-0500
TZOFFSETTO:-0400
RDATE:20250309T020000
RDATE:20260308T020000
END:DAYLIGHT
END:VTIMEZONE
BEGIN:VEVENT
UID:d54054b2-bcdf-4622-a0dc-547cb0ac3e62
DTSTAMP:20260421T200948Z
DESCRIPTION:The cost of this event is $35.00 per person.
DTSTART;TZID=America/New_York:20250213T190000
DTEND;TZID=America/New_York:20250213T210000
LOCATION:The Arc of Chester County \, 900 Lawrence Drive\, West Chester \, 
 PA 19380 US
SUMMARY:Valentine's Day Dance
END:VEVENT
END:VCALENDAR
