BEGIN:VCALENDAR
VERSION:2.0
PRODID:-//arcofchestercounty.org//NONSGML kigkonsult.se iCalcreator 2.30.10
 //
CALSCALE:GREGORIAN
METHOD:PUBLISH
UID:726aa1db-099c-4279-9e4c-15a256f61032
X-WR-CALDESC:The cost of this event is $165 per person plus spending money 
 . \n\nPlease arrive at the Arc by 10am so the bust can leave on time.  A s
 mall lunch will be provided at the Aquarium.
X-WR-RELCALID:be43e6beed5305ab33592b580039cdbf
X-WR-TIMEZONE:America/New_York
BEGIN:VTIMEZONE
TZID:America/New_York
BEGIN:STANDARD
TZNAME:EST
DTSTART:20241103T020000
TZOFFSETFROM:-0400
TZOFFSETTO:-0500
RDATE:20251102T020000
END:STANDARD
BEGIN:DAYLIGHT
TZNAME:EDT
DTSTART:20240310T020000
TZOFFSETFROM:-0500
TZOFFSETTO:-0400
RDATE:20250309T020000
RDATE:20260308T020000
END:DAYLIGHT
END:VTIMEZONE
BEGIN:VEVENT
UID:20cbb586-a4d0-4700-93de-59ff70bc7b40
DTSTAMP:20260421T202305Z
DESCRIPTION:The cost of this event is $165 per person plus spending money .
  \n\nPlease arrive at the Arc by 10am so the bust can leave on time.  A sm
 all lunch will be provided at the Aquarium.
DTSTART;TZID=America/New_York:20250208T100000
DTEND;TZID=America/New_York:20250208T150000
LOCATION:The Arc of Chester County \, 900 Lawrence Drive\, West Chester \, 
 PA 19380 US
SUMMARY:Trip to Adventure Aquarium -Camden NJ
END:VEVENT
END:VCALENDAR
