BEGIN:VCALENDAR
VERSION:2.0
PRODID:-//arcofchestercounty.org//NONSGML kigkonsult.se iCalcreator 2.30.10
 //
CALSCALE:GREGORIAN
METHOD:PUBLISH
UID:1221fbaa-3e82-413e-9a45-06f237223b98
X-WR-CALDESC:The Cost for this event is $50.00 per person.
X-WR-RELCALID:ca128d0d59e977752197f82fc6e22c5e
X-WR-TIMEZONE:America/New_York
BEGIN:VTIMEZONE
TZID:America/New_York
BEGIN:STANDARD
TZNAME:EST
DTSTART:20241103T020000
TZOFFSETFROM:-0400
TZOFFSETTO:-0500
RDATE:20251102T020000
END:STANDARD
BEGIN:DAYLIGHT
TZNAME:EDT
DTSTART:20240310T020000
TZOFFSETFROM:-0500
TZOFFSETTO:-0400
RDATE:20250309T020000
RDATE:20260308T020000
END:DAYLIGHT
END:VTIMEZONE
BEGIN:VEVENT
UID:30c73907-a388-4d46-93cd-25dfccafa00a
DTSTAMP:20260421T214910Z
DESCRIPTION:The Cost for this event is $50.00 per person.
DTSTART;TZID=America/New_York:20250112T120000
DTEND;TZID=America/New_York:20250112T143000
LOCATION:The Arc of Chester County \, 900 Lawrence Drive\, West Chester \, 
 PA 19380 US
SUMMARY:Make Your Own Pizza
END:VEVENT
END:VCALENDAR
