BEGIN:VCALENDAR
VERSION:2.0
PRODID:-//arcofchestercounty.org//NONSGML kigkonsult.se iCalcreator 2.30.10
 //
CALSCALE:GREGORIAN
METHOD:PUBLISH
UID:5851b738-c6ba-46bd-87a5-1c282aa64324
X-WR-CALDESC:
X-WR-RELCALID:a0fdd19e9ca0f9dd8ef1de896f32420e
X-WR-TIMEZONE:America/New_York
BEGIN:VTIMEZONE
TZID:America/New_York
BEGIN:STANDARD
TZNAME:EST
DTSTART:20241103T020000
TZOFFSETFROM:-0400
TZOFFSETTO:-0500
RDATE:20251102T020000
END:STANDARD
BEGIN:DAYLIGHT
TZNAME:EDT
DTSTART:20240310T020000
TZOFFSETFROM:-0500
TZOFFSETTO:-0400
RDATE:20250309T020000
RDATE:20260308T020000
END:DAYLIGHT
END:VTIMEZONE
BEGIN:VEVENT
UID:637d7686-93ca-4e72-8350-0168db2c7aad
DTSTAMP:20260421T233150Z
DESCRIPTION:
DTSTART;TZID=America/New_York:20241227T180000
DTEND;TZID=America/New_York:20241227T203000
LOCATION:The Arc of Chester County \, 900 Lawrence Drive\, West Chester \, 
 PA 19380 US
SUMMARY:Movie Night and Pizza
END:VEVENT
END:VCALENDAR
