BEGIN:VCALENDAR
VERSION:2.0
PRODID:-//arcofchestercounty.org//NONSGML kigkonsult.se iCalcreator 2.30.10
 //
CALSCALE:GREGORIAN
METHOD:PUBLISH
UID:113f26db-2fa0-4d09-bfca-48df970ee5a9
X-WR-CALDESC:
X-WR-RELCALID:2abb9840f4e89904539aa3cba23b8d15
X-WR-TIMEZONE:America/New_York
BEGIN:VTIMEZONE
TZID:America/New_York
BEGIN:STANDARD
TZNAME:EST
DTSTART:20241103T020000
TZOFFSETFROM:-0400
TZOFFSETTO:-0500
RDATE:20251102T020000
END:STANDARD
BEGIN:DAYLIGHT
TZNAME:EDT
DTSTART:20240310T020000
TZOFFSETFROM:-0500
TZOFFSETTO:-0400
RDATE:20250309T020000
RDATE:20260308T020000
END:DAYLIGHT
END:VTIMEZONE
BEGIN:VEVENT
UID:fb5cf6d6-04bf-4a8c-b792-46a2660d5e65
DTSTAMP:20260421T233209Z
DESCRIPTION:
DTSTART;TZID=America/New_York:20241208T120000
DTEND;TZID=America/New_York:20241208T150000
LOCATION:The Arc of Chester County \, 900 Lawrence Drive\, West Chester \, 
 PA 19380 US
SUMMARY:Holiday Extravaganza
END:VEVENT
END:VCALENDAR
