BEGIN:VCALENDAR
VERSION:2.0
PRODID:-//arcofchestercounty.org//NONSGML kigkonsult.se iCalcreator 2.30.10
 //
CALSCALE:GREGORIAN
METHOD:PUBLISH
UID:028f7e9d-349f-40a2-b308-c37b8006329e
X-WR-CALDESC:
X-WR-RELCALID:ceb3affc16ca70eaf66e587549476a5e
X-WR-TIMEZONE:America/New_York
BEGIN:VTIMEZONE
TZID:America/New_York
BEGIN:STANDARD
TZNAME:EST
DTSTART:20241103T020000
TZOFFSETFROM:-0400
TZOFFSETTO:-0500
RDATE:20251102T020000
END:STANDARD
BEGIN:DAYLIGHT
TZNAME:EDT
DTSTART:20240310T020000
TZOFFSETFROM:-0500
TZOFFSETTO:-0400
RDATE:20250309T020000
RDATE:20260308T020000
END:DAYLIGHT
END:VTIMEZONE
BEGIN:VEVENT
UID:c6abd64b-01e2-457d-8aa7-a487956cce20
DTSTAMP:20260422T012845Z
DESCRIPTION:
DTSTART;TZID=America/New_York:20241121T190000
DTEND;TZID=America/New_York:20241121T210000
LOCATION:The Arc of Chester County \, 900 Lawrence Drive\, West Chester \, 
 PA 19380 US
SUMMARY:Karaoke
END:VEVENT
END:VCALENDAR
