BEGIN:VCALENDAR
VERSION:2.0
PRODID:-//arcofchestercounty.org//NONSGML kigkonsult.se iCalcreator 2.30.10
 //
CALSCALE:GREGORIAN
METHOD:PUBLISH
UID:7ceb0dc6-6ef5-436e-9449-decba4334af8
X-WR-CALDESC:
X-WR-RELCALID:da12cad1a282186e21ec5b1893d600f7
X-WR-TIMEZONE:America/New_York
BEGIN:VTIMEZONE
TZID:America/New_York
BEGIN:STANDARD
TZNAME:EST
DTSTART:20241103T020000
TZOFFSETFROM:-0400
TZOFFSETTO:-0500
RDATE:20251102T020000
END:STANDARD
BEGIN:DAYLIGHT
TZNAME:EDT
DTSTART:20240310T020000
TZOFFSETFROM:-0500
TZOFFSETTO:-0400
RDATE:20250309T020000
RDATE:20260308T020000
END:DAYLIGHT
END:VTIMEZONE
BEGIN:VEVENT
UID:bd554bd5-6184-44e9-bf6d-5e37696cb74a
DTSTAMP:20260422T011917Z
DESCRIPTION:
DTSTART;TZID=America/New_York:20241120T113000
DTEND;TZID=America/New_York:20241120T130000
LOCATION:https://arcofchestercounty.org/events-activities/chat-n-chew-train
 ing-series.html
SUMMARY:Chat n Chew Session: Power in your Pockets\, Smartphones as Augment
 ative and Alternative Communication Devices
END:VEVENT
END:VCALENDAR
