BEGIN:VCALENDAR
VERSION:2.0
PRODID:-//arcofchestercounty.org//NONSGML kigkonsult.se iCalcreator 2.30.10
 //
CALSCALE:GREGORIAN
METHOD:PUBLISH
UID:230470bb-991c-4272-8e6e-b117195c4f1e
X-WR-CALDESC:
X-WR-RELCALID:06edb375bad8b0f1c529ff8adc4216d9
X-WR-TIMEZONE:America/New_York
BEGIN:VTIMEZONE
TZID:America/New_York
BEGIN:STANDARD
TZNAME:EST
DTSTART:20241103T020000
TZOFFSETFROM:-0400
TZOFFSETTO:-0500
RDATE:20251102T020000
END:STANDARD
BEGIN:DAYLIGHT
TZNAME:EDT
DTSTART:20240310T020000
TZOFFSETFROM:-0500
TZOFFSETTO:-0400
RDATE:20250309T020000
RDATE:20260308T020000
END:DAYLIGHT
END:VTIMEZONE
BEGIN:VEVENT
UID:311972f3-1891-4ad5-8c18-b825d22bc5eb
DTSTAMP:20260422T012418Z
DESCRIPTION:
DTSTART;TZID=America/New_York:20241113T113000
DTEND;TZID=America/New_York:20241113T130000
LOCATION:https://arcofchestercounty.org/events-activities/chat-n-chew-train
 ing-series.html
SUMMARY:Chat n Chew Session: From School to Adulthood: Strategic Transition
  Planning for Students with Disabilities
END:VEVENT
END:VCALENDAR
