BEGIN:VCALENDAR
VERSION:2.0
PRODID:-//arcofchestercounty.org//NONSGML kigkonsult.se iCalcreator 2.30.10
 //
CALSCALE:GREGORIAN
METHOD:PUBLISH
UID:b1c18d41-d5ce-4020-b55e-7e7b233a08c2
X-WR-CALDESC:
X-WR-RELCALID:eb4ea998a4587c3764eab1626c2437f2
X-WR-TIMEZONE:America/New_York
BEGIN:VTIMEZONE
TZID:America/New_York
BEGIN:STANDARD
TZNAME:EST
DTSTART:20241103T020000
TZOFFSETFROM:-0400
TZOFFSETTO:-0500
RDATE:20251102T020000
END:STANDARD
BEGIN:DAYLIGHT
TZNAME:EDT
DTSTART:20240310T020000
TZOFFSETFROM:-0500
TZOFFSETTO:-0400
RDATE:20250309T020000
RDATE:20260308T020000
END:DAYLIGHT
END:VTIMEZONE
BEGIN:VEVENT
UID:c3291122-bbf1-4b72-967f-322ce39f0164
DTSTAMP:20260422T012817Z
DESCRIPTION:
DTSTART;TZID=America/New_York:20241106T113000
DTEND;TZID=America/New_York:20241106T130000
LOCATION:https://arcofchestercounty.org/events-activities/chat-n-chew-train
 ing-series.html
SUMMARY:Chat n Chew Session: Accessing Mental and Behavioral Health Service
 s in Chester County
END:VEVENT
END:VCALENDAR
