BEGIN:VCALENDAR
VERSION:2.0
PRODID:-//arcofchestercounty.org//NONSGML kigkonsult.se iCalcreator 2.30.10
 //
CALSCALE:GREGORIAN
METHOD:PUBLISH
UID:4c9358b7-794f-46f0-987c-a1ef656eb511
X-WR-CALDESC:
X-WR-RELCALID:7fff669315fc27ef0bc3a7196a6fc3eb
X-WR-TIMEZONE:America/New_York
BEGIN:VTIMEZONE
TZID:America/New_York
BEGIN:STANDARD
TZNAME:EST
DTSTART:20231105T020000
TZOFFSETFROM:-0400
TZOFFSETTO:-0500
RDATE:20241103T020000
RDATE:20251102T020000
END:STANDARD
BEGIN:DAYLIGHT
TZNAME:EDT
DTSTART:20240310T020000
TZOFFSETFROM:-0500
TZOFFSETTO:-0400
RDATE:20250309T020000
RDATE:20260308T020000
END:DAYLIGHT
END:VTIMEZONE
BEGIN:VEVENT
UID:7046d808-be76-4048-9313-a533b8f56e26
DTSTAMP:20260422T034356Z
DESCRIPTION:
DTSTART;TZID=America/New_York:20241030T113000
DTEND;TZID=America/New_York:20241030T130000
LOCATION:https://arcofchestercounty.org/events-activities/chat-n-chew-train
 ing-series.html
SUMMARY:Chat n Chew Session: Social Security Benefits- Part 2
END:VEVENT
END:VCALENDAR
