BEGIN:VCALENDAR
VERSION:2.0
PRODID:-//arcofchestercounty.org//NONSGML kigkonsult.se iCalcreator 2.30.10
 //
CALSCALE:GREGORIAN
METHOD:PUBLISH
UID:1c45430c-80cd-45ed-aa78-519f609cee5e
X-WR-CALDESC:
X-WR-RELCALID:47a7992a67c998f614c48d6a3e362b32
X-WR-TIMEZONE:America/New_York
BEGIN:VTIMEZONE
TZID:America/New_York
BEGIN:STANDARD
TZNAME:EST
DTSTART:20231105T020000
TZOFFSETFROM:-0400
TZOFFSETTO:-0500
RDATE:20241103T020000
RDATE:20251102T020000
END:STANDARD
BEGIN:DAYLIGHT
TZNAME:EDT
DTSTART:20240310T020000
TZOFFSETFROM:-0500
TZOFFSETTO:-0400
RDATE:20250309T020000
RDATE:20260308T020000
END:DAYLIGHT
END:VTIMEZONE
BEGIN:VEVENT
UID:2140a2d4-9885-41bd-991c-7d6e9e037128
DTSTAMP:20260422T031240Z
DESCRIPTION:
DTSTART;TZID=America/New_York:20241024T190000
DTEND;TZID=America/New_York:20241024T210000
LOCATION:The Arc of Chester County \, 900 Lawrence Drive\, West Chester \, 
 PA 19380 US
SUMMARY:Halloween Dance
END:VEVENT
END:VCALENDAR
