BEGIN:VCALENDAR
VERSION:2.0
PRODID:-//arcofchestercounty.org//NONSGML kigkonsult.se iCalcreator 2.30.10
 //
CALSCALE:GREGORIAN
METHOD:PUBLISH
UID:9588509f-4041-47a3-8332-e42589743f58
X-WR-CALDESC:
X-WR-RELCALID:36dd687cf1531a8df806a2879df968a3
X-WR-TIMEZONE:America/New_York
BEGIN:VTIMEZONE
TZID:America/New_York
BEGIN:STANDARD
TZNAME:EST
DTSTART:20231105T020000
TZOFFSETFROM:-0400
TZOFFSETTO:-0500
RDATE:20241103T020000
RDATE:20251102T020000
END:STANDARD
BEGIN:DAYLIGHT
TZNAME:EDT
DTSTART:20240310T020000
TZOFFSETFROM:-0500
TZOFFSETTO:-0400
RDATE:20250309T020000
RDATE:20260308T020000
END:DAYLIGHT
END:VTIMEZONE
BEGIN:VEVENT
UID:cc98bc6b-cfef-422c-b2d2-1dd28630b461
DTSTAMP:20260422T031733Z
DESCRIPTION:
DTSTART;TZID=America/New_York:20241023T113000
DTEND;TZID=America/New_York:20241023T130000
LOCATION:https://arcofchestercounty.org/events-activities/chat-n-chew-train
 ing-series.html
SUMMARY:Chat n Chew Session: Social Security Benefits- Part 1
END:VEVENT
END:VCALENDAR
