BEGIN:VCALENDAR
VERSION:2.0
PRODID:-//arcofchestercounty.org//NONSGML kigkonsult.se iCalcreator 2.30.10
 //
CALSCALE:GREGORIAN
METHOD:PUBLISH
UID:893c8986-8da6-4662-9836-10de3cda3a1d
X-WR-CALDESC:
X-WR-RELCALID:1b06eeabb068b2f9f8dc9d1cd9954763
X-WR-TIMEZONE:America/New_York
BEGIN:VTIMEZONE
TZID:America/New_York
BEGIN:STANDARD
TZNAME:EST
DTSTART:20231105T020000
TZOFFSETFROM:-0400
TZOFFSETTO:-0500
RDATE:20241103T020000
RDATE:20251102T020000
END:STANDARD
BEGIN:DAYLIGHT
TZNAME:EDT
DTSTART:20240310T020000
TZOFFSETFROM:-0500
TZOFFSETTO:-0400
RDATE:20250309T020000
RDATE:20260308T020000
END:DAYLIGHT
END:VTIMEZONE
BEGIN:VEVENT
UID:6282c891-744a-4f2f-8667-cb47c27375be
DTSTAMP:20260422T031113Z
DESCRIPTION:
DTSTART;TZID=America/New_York:20241019T100000
DTEND;TZID=America/New_York:20241019T153000
LOCATION:The Arc of Chester County \, 900 Lawrence Drive\, West Chester \, 
 PA 19380 US
SUMMARY:Longwood Gardens and Lunch
END:VEVENT
END:VCALENDAR
