BEGIN:VCALENDAR
VERSION:2.0
PRODID:-//arcofchestercounty.org//NONSGML kigkonsult.se iCalcreator 2.30.10
 //
CALSCALE:GREGORIAN
METHOD:PUBLISH
UID:fe212e3b-e267-4ecb-9aa7-d99546a0a8dc
X-WR-CALDESC:
X-WR-RELCALID:f3ee7035487dc458724ce1a63696a5a8
X-WR-TIMEZONE:America/New_York
BEGIN:VTIMEZONE
TZID:America/New_York
BEGIN:STANDARD
TZNAME:EST
DTSTART:20231105T020000
TZOFFSETFROM:-0400
TZOFFSETTO:-0500
RDATE:20241103T020000
RDATE:20251102T020000
END:STANDARD
BEGIN:DAYLIGHT
TZNAME:EDT
DTSTART:20240310T020000
TZOFFSETFROM:-0500
TZOFFSETTO:-0400
RDATE:20250309T020000
RDATE:20260308T020000
END:DAYLIGHT
END:VTIMEZONE
BEGIN:VEVENT
UID:e4d578c0-a1ce-4596-8998-ede60f4119c6
DTSTAMP:20260422T034509Z
DESCRIPTION:
DTSTART;TZID=America/New_York:20241016T113000
DTEND;TZID=America/New_York:20241016T130000
LOCATION:https://arcofchestercounty.org/events-activities/chat-n-chew-train
 ing-series.html
SUMMARY:Chat n Chew Session: Empowering Families\, Navigating Autism\, Trau
 ma and Kinship
END:VEVENT
END:VCALENDAR
