BEGIN:VCALENDAR
VERSION:2.0
PRODID:-//arcofchestercounty.org//NONSGML kigkonsult.se iCalcreator 2.30.10
 //
CALSCALE:GREGORIAN
METHOD:PUBLISH
UID:27bcc734-e166-4770-9569-2205083a7f2e
X-WR-CALDESC:
X-WR-RELCALID:855c8cd58533ec38e063a3472e8280ac
X-WR-TIMEZONE:America/New_York
BEGIN:VTIMEZONE
TZID:America/New_York
BEGIN:STANDARD
TZNAME:EST
DTSTART:20231105T020000
TZOFFSETFROM:-0400
TZOFFSETTO:-0500
RDATE:20241103T020000
RDATE:20251102T020000
END:STANDARD
BEGIN:DAYLIGHT
TZNAME:EDT
DTSTART:20240310T020000
TZOFFSETFROM:-0500
TZOFFSETTO:-0400
RDATE:20250309T020000
RDATE:20260308T020000
END:DAYLIGHT
END:VTIMEZONE
BEGIN:VEVENT
UID:cc772ed2-7fbb-44eb-bcfe-9dcf363f7bad
DTSTAMP:20260422T032153Z
DESCRIPTION:
DTSTART;TZID=America/New_York:20241009T113000
DTEND;TZID=America/New_York:20241009T130000
LOCATION:https://arcofchestercounty.org/events-activities/chat-n-chew-train
 ing-series.html
SUMMARY:Chat n Chew Session: Navigating Transition & the role Office of Voc
 ational Rehabilitaion
END:VEVENT
END:VCALENDAR
